
BEGIN:VCALENDAR
VERSION:2.0
PRODID:-//Liceo guido carli - ECPv5.11.0//NONSGML v1.0//EN
CALSCALE:GREGORIAN
METHOD:PUBLISH
X-WR-CALNAME:Liceo guido carli
X-ORIGINAL-URL:https://www.liceoguidocarli.eu
X-WR-CALDESC:Events for Liceo guido carli
BEGIN:VTIMEZONE
TZID:Europe/Rome
BEGIN:DAYLIGHT
TZOFFSETFROM:+0100
TZOFFSETTO:+0200
TZNAME:CEST
DTSTART:20240331T010000
END:DAYLIGHT
BEGIN:STANDARD
TZOFFSETFROM:+0200
TZOFFSETTO:+0100
TZNAME:CET
DTSTART:20241027T010000
END:STANDARD
END:VTIMEZONE
BEGIN:VEVENT
DTSTART;TZID=Europe/Rome:20241218T080000
DTEND;TZID=Europe/Rome:20241218T170000
DTSTAMP:20260422T032911
CREATED:20241218T073829Z
LAST-MODIFIED:20241218T073829Z
UID:9809-1734508800-1734541200@www.liceoguidocarli.eu
SUMMARY:AUGURI DALLA PRESIDENZA
DESCRIPTION:In occasione delle festività natalizie\, desidero esprimere il mio più sincero augurio a tutti voi.\nQuesto è un momento di riflessione\, ma anche di impegno per noi adulti:\nla nostra priorità deve essere continuare a offrire ai ragazzi tutte le opportunità di crescita\nche possano aiutarli a sviluppare le competenze necessarie per affrontare con successo il futuro.\nInsieme\, docenti e famiglie\, ogni giorno devono aiutarli a tracciare il percorso che li prepara a diventare protagonisti di un mondo in continua evoluzione\, per dar loro fiducia nelle loro capacità e consapevolezza delle loro potenzialità. \nAndrea Bernesco Làvore
URL:https://www.liceoguidocarli.eu/event/auguri-dalla-presidenza/
CATEGORIES:NEWS
ATTACH;FMTTYPE=image/jpeg:https://www.liceoguidocarli.eu/wp-content/uploads/2024/12/auguri.jpg
END:VEVENT
END:VCALENDAR