
BEGIN:VCALENDAR
VERSION:2.0
PRODID:-//Liceo guido carli - ECPv5.11.0//NONSGML v1.0//EN
CALSCALE:GREGORIAN
METHOD:PUBLISH
X-WR-CALNAME:Liceo guido carli
X-ORIGINAL-URL:https://www.liceoguidocarli.eu
X-WR-CALDESC:Events for Liceo guido carli
BEGIN:VTIMEZONE
TZID:Europe/Rome
BEGIN:DAYLIGHT
TZOFFSETFROM:+0100
TZOFFSETTO:+0200
TZNAME:CEST
DTSTART:20240331T010000
END:DAYLIGHT
BEGIN:STANDARD
TZOFFSETFROM:+0200
TZOFFSETTO:+0100
TZNAME:CET
DTSTART:20241027T010000
END:STANDARD
END:VTIMEZONE
BEGIN:VEVENT
DTSTART;TZID=Europe/Rome:20241128T150000
DTEND;TZID=Europe/Rome:20241128T170000
DTSTAMP:20260422T045601
CREATED:20241107T135127Z
LAST-MODIFIED:20241107T135127Z
UID:9782-1732806000-1732813200@www.liceoguidocarli.eu
SUMMARY:OPEN STAGE
DESCRIPTION:“CARLI ON STAGE”\, attività pomeridiana (dalle 15.00 alle 17.00) per approcciare la matematica\, l’italiano e l’inglese\, ma soprattutto  giornata di orientamento attivo. \nTrascorri con i nostri docenti\, i nostri studenti e i tuoi futuri compagni un pomeriggio di divertenti attività ludico-didattiche. \nLe iscrizioni sono a numero chiuso\, invia una mail a segreteria@liceoguidocarli.eu
URL:https://www.liceoguidocarli.eu/event/open-stage/
CATEGORIES:NEWS
ATTACH;FMTTYPE=image/jpeg:https://www.liceoguidocarli.eu/wp-content/uploads/2024/11/open-ritagliato.jpg
END:VEVENT
END:VCALENDAR