
BEGIN:VCALENDAR
VERSION:2.0
PRODID:-//Liceo guido carli - ECPv5.11.0//NONSGML v1.0//EN
CALSCALE:GREGORIAN
METHOD:PUBLISH
X-WR-CALNAME:Liceo guido carli
X-ORIGINAL-URL:https://www.liceoguidocarli.eu
X-WR-CALDESC:Events for Liceo guido carli
BEGIN:VTIMEZONE
TZID:Europe/Rome
BEGIN:DAYLIGHT
TZOFFSETFROM:+0100
TZOFFSETTO:+0200
TZNAME:CEST
DTSTART:20240331T010000
END:DAYLIGHT
BEGIN:STANDARD
TZOFFSETFROM:+0200
TZOFFSETTO:+0100
TZNAME:CET
DTSTART:20241027T010000
END:STANDARD
END:VTIMEZONE
BEGIN:VEVENT
DTSTART;TZID=Europe/Rome:20240222T080000
DTEND;TZID=Europe/Rome:20240222T170000
DTSTAMP:20260424T172526
CREATED:20240328T131328Z
LAST-MODIFIED:20240328T131328Z
UID:9570-1708588800-1708621200@www.liceoguidocarli.eu
SUMMARY:Avviso 84 - Certificazione lingua inglese First Certificate – Livello B2
DESCRIPTION:Mercoledì 12 giugno si svolgerà presso la sede del nostro Liceo la certificazione internazionale di lingua inglese First Certificate – livello B2.  \nPer qualsiasi chiarimento o approfondimento in merito alla certificazione linguistica\, i referenti sono la Prof.ssa Eleonora Cecchin per la 2A e la 2C e la Prof.ssa Martina Peroni per la 2B.  \nLa quota di iscrizione è di € 209.50 e andrà versata entro e non oltre venerdì 22 marzo tramite bonifico sul conto corrente intestato a: \nFONDAZIONE A.I.B.\nBANCA VALSABBINA – FIL. BS\nIBAN: IT 14 H 05116 11200 000000056415\nspecificando come causale:\n“ISCRIZIONE FIRST (cognome-nome alunno/a)” \nGli studenti dovranno consegnare in Segreteria\, sempre entro il 22 marzo\, l’autorizzazione allegata e la contabile del bonifico. \nQualora vi fossero motivi per i quali gli studenti sono impossibilitati a partecipare\, siete pregati di darne riscontro immediato.
URL:https://www.liceoguidocarli.eu/event/avviso-84-certificazione-lingua-inglese-first-certificate-livello-b2/
CATEGORIES:AVVISI
END:VEVENT
BEGIN:VEVENT
DTSTART;TZID=Europe/Rome:20240229T080000
DTEND;TZID=Europe/Rome:20240229T170000
DTSTAMP:20260424T172526
CREATED:20240328T131200Z
LAST-MODIFIED:20240328T131200Z
UID:9566-1709193600-1709226000@www.liceoguidocarli.eu
SUMMARY:Avviso 81 - Viaggio studio a Málaga 17 - 29 giugno 2024
DESCRIPTION:Per gli studenti delle classi seconde A\, B e C che studiano spagnolo\, la scuola organizzerà nel periodo dal 17 al 29 giugno un viaggio studio a Málaga.  \nIl soggiorno linguistico-culturale in Spagna ha come scopo principale il rafforzamento delle competenze linguistiche attraverso un insieme di attività didattiche e ricreative con un forte legame al territorio. In tale senso il viaggio comprenderà: \n–	Alloggio in famiglia con pasti inclusi;\n–	Corso di Spagnolo di 16 ore di lezione/settimana (ogni ora di 50 min) in gruppi chiusi in base al livello linguistico di preparazione alla certificazione D.E.L.E.\n–	Escursioni e attività culturali pianificate: visita della città; visita al Castillo de Gibralfaro y alla Alcazaba; visita al Museo Picasso con guida interna del museo; classe di ballo; concorso fotografico; gymkhana culturale nel centro; classe di cucina; giochi in spiaggia con fitto di ombrellone; visita alla Catedral; ruta de bares de tapas\, ecc.\n–	Escursione di giornata intera in bus privato a Ronda con entrata alla Plaza de Toros e Baños Árabes con guida ufficiale\n–	Soggiorno a Granada con alloggio (1 notte) in hotel 4 stelle semicentrale. Trattamento di pensione completa in hotel o ristorante convenzionato in base a disponibilità della struttura e transfer A/R in bus privato da Málaga a Granada (città); visita della città (Granada Cristiana) con entrata alla Capilla Real y alla Catedral con accompagnatore madrelingua; visita alla Alhambra con guida ufficiale; spettacolo di flamenco al Sacromonte.
URL:https://www.liceoguidocarli.eu/event/avviso-81-viaggio-studio-a-malaga-17-29-giugno-2024/
CATEGORIES:AVVISI
END:VEVENT
END:VCALENDAR