
BEGIN:VCALENDAR
VERSION:2.0
PRODID:-//Liceo guido carli - ECPv5.11.0//NONSGML v1.0//EN
CALSCALE:GREGORIAN
METHOD:PUBLISH
X-WR-CALNAME:Liceo guido carli
X-ORIGINAL-URL:https://www.liceoguidocarli.eu
X-WR-CALDESC:Events for Liceo guido carli
BEGIN:VTIMEZONE
TZID:Europe/Rome
BEGIN:DAYLIGHT
TZOFFSETFROM:+0100
TZOFFSETTO:+0200
TZNAME:CEST
DTSTART:20230326T010000
END:DAYLIGHT
BEGIN:STANDARD
TZOFFSETFROM:+0200
TZOFFSETTO:+0100
TZNAME:CET
DTSTART:20231029T010000
END:STANDARD
END:VTIMEZONE
BEGIN:VEVENT
DTSTART;TZID=Europe/Rome:20231004T080000
DTEND;TZID=Europe/Rome:20231008T170000
DTSTAMP:20260424T221111
CREATED:20230915T120533Z
LAST-MODIFIED:20230915T120533Z
UID:9030-1696406400-1696784400@www.liceoguidocarli.eu
SUMMARY:FESTIVAL INTERNAZIONALE DELL'EDUCAZIONE
DESCRIPTION:Un nuovo Festival nasce a Brescia nell’anno cruciale del 2023 che vede la nostra città\, insieme a Bergamo\, Capitale italiana della cultura. Un Festival che intende dare valore all’eccellenza bresciana nell’ambito pedagogico e didattico\, attraverso il contributo di esperti nazionali e internazionali in un grande momento dedicato all’educazione\, alla conoscenza\, alla trasformazione della comunità. \nLa prima edizione si concentra sul tema delle “Comunità educative” per sancire un patto\, un’alleanza educativa tra le generazioni\, tra scuola e territorio\, tra istituzioni e enti del terzo settore\, per una comunità inclusiva\, in grado di dare valore alle differenze culturali e promuovere processi solidali. \nTutti gli eventi sono aperti al pubblico su prenotazione e sono gratuiti. \nVenerdì 6 ottobre appuntamento presso il Liceo Guido Carli alle ore 14.30. \nScarica il programma degli eventi
URL:https://www.liceoguidocarli.eu/event/festival-internazionale-delleducazione/
CATEGORIES:NEWS
ATTACH;FMTTYPE=image/png:https://www.liceoguidocarli.eu/wp-content/uploads/2023/09/Schermata-2023-09-15-alle-14.04.49.png
END:VEVENT
BEGIN:VEVENT
DTSTART;TZID=Europe/Rome:20231006T093000
DTEND;TZID=Europe/Rome:20231006T120000
DTSTAMP:20260424T221111
CREATED:20230915T121047Z
LAST-MODIFIED:20230915T122913Z
UID:9035-1696584600-1696593600@www.liceoguidocarli.eu
SUMMARY:FESTIVAL DELL'EDUCAZIONE - CONFINDUSTRIA BRESCIA
DESCRIPTION:RILANCIARE IL VALORE EDUCATIVO E FORMATIVO DEL LAVORO E DELL’IMPRESA \n\n\n\n\nSala Beretta\, Confindustria Brescia Via Cefalonia\, 60\nOre 9.30-12.00 \n\n\n\n\n\n\n\n\nTalk. I contesti lavorativi svolgono un importante ruolo educativo e formativo sia in termini di competenze verticali che in termini di competenze digitali e trasversali. I percorsi di istruzione formale sono essenziali e è molto importante ridurre il mismatch tra profili in uscita dai \npercorsi di istruzione e mercato\, domanda di lavoro. È parimenti importante che i contesti di lavoro sviluppino le capacità di socializzazione e formazione non solo professionale. \nRelatori: Elisa Torchiani . Antonio Danieli . Elvio Mauri . Alberto Peretti \nA chi si rivolge: Adulti\, Docenti della scuola secondaria\, Docenti universitari \nIn collaborazione con: Fondazione AIB\, Confindustria Brescia\, InnexHUB
URL:https://www.liceoguidocarli.eu/event/festival-delleducazione-confindustria-brescia/
CATEGORIES:NEWS
ATTACH;FMTTYPE=image/png:https://www.liceoguidocarli.eu/wp-content/uploads/2023/09/Schermata-2023-09-15-alle-14.04.49.png
END:VEVENT
BEGIN:VEVENT
DTSTART;TZID=Europe/Rome:20231006T143000
DTEND;TZID=Europe/Rome:20231006T170000
DTSTAMP:20260424T221111
CREATED:20230915T121216Z
LAST-MODIFIED:20230915T121216Z
UID:9037-1696602600-1696611600@www.liceoguidocarli.eu
SUMMARY:FESTIVAL DELL'EDUCAZIONE - LICEO GUIDO CARLI
DESCRIPTION:EDUCAZIONE IN UN MONDO DIGITALE\, SVILUPPARE LE COMPETENZE DIGITALI \n\n\n\n\nLiceo Carli – Via Stretta\, 175\nOre 14.30-17.00 \nTalk. Se si parla di educazione oggi non\npuò mancare un approfondimento riguardo all’educazione digitale. Educazione digitale oggi vuol dire conoscere le tecnologie e comprendere come utilizzarle in modo etico e costruttivo sia per sè che per i contesti in cui si è inseriti. Il convegno intende approfondire quali competenze digitali sono oggi indispensabili e devono essere formate nei contesti di istruzione e come formare tali competenze. \nRelatori: Paolo Maugeri . Enrico Donati . Cinzia Pollio . Giancarlo Turati \nA chi si rivolge: Famiglie\, Adulti\, Docenti della scuola secondaria\, Docenti universitari\, Imprenditori\, Dirigenti di aziende e altre organizzazioni \nIn collaborazione con: Fondazione AIB\, Confindustria Brescia\, InnexHUB
URL:https://www.liceoguidocarli.eu/event/festival-delleducazione-liceo-guido-carli/
CATEGORIES:NEWS
ATTACH;FMTTYPE=image/png:https://www.liceoguidocarli.eu/wp-content/uploads/2023/09/Schermata-2023-09-15-alle-14.04.49.png
END:VEVENT
BEGIN:VEVENT
DTSTART;TZID=Europe/Rome:20231019T163000
DTEND;TZID=Europe/Rome:20231019T190000
DTSTAMP:20260424T221111
CREATED:20231018T111135Z
LAST-MODIFIED:20231018T111135Z
UID:9090-1697733000-1697742000@www.liceoguidocarli.eu
SUMMARY:CERIMONIA DI CONSEGNA DIPLOMI E BORSE DI STUDIO
DESCRIPTION:Giovedì 19 ottobre si terrà la  cerimonia di consegna dei diplomi e delle Borse di studio.\n\nAlla cerimonia parteciperanno\nElisa Torchiani\, Presidente di Fondazione AIB\nFranco Gussalli Beretta\, Presidente di Confindustria Brescia\nle Autorità\, gli organi di stampa e i rappresentanti delle nostre aziende benefattrici.
URL:https://www.liceoguidocarli.eu/event/cerimonia-di-consegna-diplomi-e-borse-di-studio/
CATEGORIES:NEWS
ATTACH;FMTTYPE=image/jpeg:https://www.liceoguidocarli.eu/wp-content/uploads/2023/10/diplomi-scaled.jpg
END:VEVENT
BEGIN:VEVENT
DTSTART;TZID=Europe/Rome:20231024T150000
DTEND;TZID=Europe/Rome:20231024T170000
DTSTAMP:20260424T221111
CREATED:20231018T111434Z
LAST-MODIFIED:20231018T111434Z
UID:9093-1698159600-1698166800@www.liceoguidocarli.eu
SUMMARY:PRIMO OPEN STAGE
DESCRIPTION:Primo dei quattro stage di orientamento attivo nei quali verrà offerta la possibilità agli aspiranti studenti di mettersi in gioco in maniera creativa e divertente: si proporranno ai partecipanti attività di gruppo stimolanti per approcciare la matematica\, l’italiano e l’inglese. \nTi aspettiamo per un pomeriggio diverso: conoscerai la realtà della nostra scuola attraverso giochi matematici\, sfide di narrazione e fantasia in italiano ed in inglese. \nGrazie al lavoro di squadra scoprirai che l’apprendimento può essere una sfida interessante e divertente e\, al contempo\, conoscere l’ambiente del Carli e il nostro corpo docente.
URL:https://www.liceoguidocarli.eu/event/primo-open-stage-2/
CATEGORIES:NEWS
ATTACH;FMTTYPE=image/jpeg:https://www.liceoguidocarli.eu/wp-content/uploads/2022/11/IMG_1714-2-scaled.jpg
END:VEVENT
END:VCALENDAR