
BEGIN:VCALENDAR
VERSION:2.0
PRODID:-//Liceo guido carli - ECPv5.11.0//NONSGML v1.0//EN
CALSCALE:GREGORIAN
METHOD:PUBLISH
X-WR-CALNAME:Liceo guido carli
X-ORIGINAL-URL:https://www.liceoguidocarli.eu
X-WR-CALDESC:Events for Liceo guido carli
BEGIN:VTIMEZONE
TZID:Europe/Rome
BEGIN:DAYLIGHT
TZOFFSETFROM:+0100
TZOFFSETTO:+0200
TZNAME:CEST
DTSTART:20230326T010000
END:DAYLIGHT
BEGIN:STANDARD
TZOFFSETFROM:+0200
TZOFFSETTO:+0100
TZNAME:CET
DTSTART:20231029T010000
END:STANDARD
END:VTIMEZONE
BEGIN:VEVENT
DTSTART;TZID=Europe/Rome:20230703T080000
DTEND;TZID=Europe/Rome:20230703T170000
DTSTAMP:20260425T013825
CREATED:20230526T103003Z
LAST-MODIFIED:20230526T103039Z
UID:8838-1688371200-1688403600@www.liceoguidocarli.eu
SUMMARY:Carli S.M.A.R.T. Camp - Science\, Math\, Athletics\, Research and Technology
DESCRIPTION:Carli S.M.A.R.T. Camp è un programma estivo di due settimane\, pensato per ragazzi delle scuole medie\, che offre un’esperienza unica e divertente incentrata sulle tematiche STEM\, lo sport e l’apprendimento dell’inglese. Attraverso attività pratiche e di laboratorio\, i partecipanti impareranno ad\napplicare la scienza e la tecnologia in modo creativo e innovativo\, mentre le attività sportive\ncontribuiranno a migliorare le capacità motorie e la salute. L’apprendimento della lingua inglese sarà\ninvece incoraggiato attraverso attività interattive e coinvolgenti. Carli S.M.A.R.T. Camp è l’occasione\nperfetta per i ragazzi per trascorrere la prima parte delle vacanze estive in modo educativo e divertente\,\nsperimentando nuove competenze e incontrando nuovi amici.\n\nDal lunedì al venerdì dal 3 Luglio al 14 Luglio dalle ore 9.00 alle ore 16.00 con pranzo incluso.\n\nIl Camp si attiverà al raggiungimento dei 12 partecipanti con un massimo di posti disponibili di 20 persone.\n\nCosto settimanale 140 euro pranzi inclusi
URL:https://www.liceoguidocarli.eu/event/carli-s-m-a-r-t-camp-science-math-athletics-research-and-technology/
CATEGORIES:NEWS
ATTACH;FMTTYPE=image/jpeg:https://www.liceoguidocarli.eu/wp-content/uploads/2023/05/giardino.jpg
END:VEVENT
END:VCALENDAR