
BEGIN:VCALENDAR
VERSION:2.0
PRODID:-//Liceo guido carli - ECPv5.11.0//NONSGML v1.0//EN
CALSCALE:GREGORIAN
METHOD:PUBLISH
X-WR-CALNAME:Liceo guido carli
X-ORIGINAL-URL:https://www.liceoguidocarli.eu
X-WR-CALDESC:Events for Liceo guido carli
BEGIN:VTIMEZONE
TZID:Europe/Rome
BEGIN:DAYLIGHT
TZOFFSETFROM:+0100
TZOFFSETTO:+0200
TZNAME:CEST
DTSTART:20250330T010000
END:DAYLIGHT
BEGIN:STANDARD
TZOFFSETFROM:+0200
TZOFFSETTO:+0100
TZNAME:CET
DTSTART:20251026T010000
END:STANDARD
BEGIN:DAYLIGHT
TZOFFSETFROM:+0100
TZOFFSETTO:+0200
TZNAME:CEST
DTSTART:20260329T010000
END:DAYLIGHT
BEGIN:STANDARD
TZOFFSETFROM:+0200
TZOFFSETTO:+0100
TZNAME:CET
DTSTART:20261025T010000
END:STANDARD
END:VTIMEZONE
BEGIN:VEVENT
DTSTART;TZID=Europe/Rome:20250327T180000
DTEND;TZID=Europe/Rome:20250327T190000
DTSTAMP:20260422T033351
CREATED:20250321T082544Z
LAST-MODIFIED:20250321T082544Z
UID:9886-1743098400-1743102000@www.liceoguidocarli.eu
SUMMARY:Avviso 103 - Incontro presentazione curvature 2^c
DESCRIPTION:Gentili famiglie\, cari studenti e care studentesse\,\ngiovedì 27 marzo alle ore 18.00 i genitori\, gli alunni e i docenti della classe 2^ C sono invitati a partecipare\nalla riunione per la presentazione del progetto d’indirizzo del triennio dell’indirizzo Scienze applicate.\nDurante l’incontro\, presieduto dal preside prof. Andrea Bernesco Làvore e dal vicepreside prof. Paolo\nMaugeri\, verranno presentate le tre curvature e verranno fornite informazioni pratiche.\nIl preside\, il vicepreside e i docenti saranno a disposizione delle famiglie per chiarimenti e dettagli.\nDi seguito il link di Meet per partecipare alla riunione:\nGiovedì\, 27 marzo · 18:00 – 19:00\nFuso orario: Europe/Rome\nInformazioni per partecipare di Google Meet\nLink alla videochiamata: https://meet.google.com/apz-yvxy-sxd\nOppure digita: (US) +1 484-416-1505 PIN: 134 205 410#
URL:https://www.liceoguidocarli.eu/event/avviso-103-incontro-presentazione-curvature-2c/
CATEGORIES:AVVISI
END:VEVENT
BEGIN:VEVENT
DTSTART;TZID=Europe/Rome:20250329T093000
DTEND;TZID=Europe/Rome:20250329T123000
DTSTAMP:20260422T033351
CREATED:20250321T082105Z
LAST-MODIFIED:20250321T082105Z
UID:9878-1743240600-1743251400@www.liceoguidocarli.eu
SUMMARY:DONNE STEM: MOTORE DI INNOVAZIONE
DESCRIPTION:CONVEGNO PRESSO IL LICEO CARLI \nSaranno presenti: \nSilvia Moglia – Presidente Distretto Nord Ovest FIDAPA BPW Italy\nRoberta Chiesa – Presidente FIDAPA BPW Italy Sezione Brescia Vittoria Alata\nModeratore: Prof. Marina Pizzi – Prof. Ordinario Farmacologia UniBS\n10.00 – 10.20\n“LA TRANSIZIONE ENERGETICA E LA TRANSIZIONE DEI MATERIALI”\nProf. Elza Bontempi – Prof. Ordinario Fondamenti Chimici delle Tecnologie\, Università degli Studi di Brescia\n10.20 – 10.40\n“ECONOMIA CIRCOLARE ED ENERGIA: TECNOLOGIE CATALITICHE PER UN FUTURO A EMISSIONI ZERO”\nProf. Nancy Artioli – Prof. Associato Impianti e Processi Industriali Chimici\, Università degli Studi di Brescia\n10.50 – 11.10\n“DALLA TEORIA ALL’AZIONE: COME LA MATEMATICA MODELLA IL\nNOSTRO MONDO”\nProf. Renata Mansini – Prof. Ordinario Ricerca Operativa\, Università degli Studi di Brescia\n11.10 – 11.30\n“DAL LICEO AD INGEGNERE PLURI PREMIATA (dalla famiglia Reale)”\nIng. Marzia Bolpagni – PhD Direttrice Associata presso MACE
URL:https://www.liceoguidocarli.eu/event/donne-stem-motore-di-innovazione/
CATEGORIES:NEWS
ATTACH;FMTTYPE=image/jpeg:https://www.liceoguidocarli.eu/wp-content/uploads/2025/03/FIDAPA.jpg
END:VEVENT
BEGIN:VEVENT
DTSTART;TZID=Europe/Rome:20250401T143000
DTEND;TZID=Europe/Rome:20250401T180000
DTSTAMP:20260422T033351
CREATED:20250321T090949Z
LAST-MODIFIED:20250321T090949Z
UID:9910-1743517800-1743530400@www.liceoguidocarli.eu
SUMMARY:STAGE 1 APRILE - PORTA UN AMICO
DESCRIPTION:Dopo il successo degli scorsi anni\, rinnoviamo la proposta PORTA UN AMICO! \nSe i vostri figli vogliono far visitare la nuova scuola ad un amico\, o se avete un conoscente interessato alla nostra offerta formativa\, anche se già iscritto in altri istituti\, saremo lieti di ospitarlo per la nostra attività pomeridiana e per una merenda in compagnia dei nostri studenti e docenti. \nLa proposta\, comune a tutti gli indirizzi\, è la seguente: \nOre 14.00 – Mensa per chi vuole pranzare da noi (previo acquisto del ticket da 9.00 euro) \nLa proposta per i diversi indirizzi è la seguente: \nOre 14.30 \nEconomico-sociale \n\nLaboratorio Scienze umane (prof.ssa Amato)\nLaboratorio Diritto ed economia (prof.sse Bettineschi e Dioni)\n\nScienze applicate \n\nLaboratorio Scienze naturali (prof.sse Bertelli e Guarnerio)\nLaboratorio Fisica (prof.sse Manza e Rea)\n\nQuadriennale \n\nLaboratorio Matematica (prof.Calarco)\nLaboratorio Inglese (prof.ssa Cecchin)\n\nDalle ore 16.30 alle 17.15 \nI genitori sono invitati assieme agli studenti per la presentazione del Doppio Diploma Americano di Mater Academy\, che da anni collabora con il nostro Liceo nell’ambito del programma per ottenere il doppio diploma.
URL:https://www.liceoguidocarli.eu/event/stage-1-aprile-porta-un-amico/
CATEGORIES:NEWS
ATTACH;FMTTYPE=image/jpeg:https://www.liceoguidocarli.eu/wp-content/uploads/2025/03/fb9f3893-32c5-4681-b2bf-6b662ae9a5b7.jpg
END:VEVENT
BEGIN:VEVENT
DTSTART;TZID=Europe/Rome:20250714T080000
DTEND;TZID=Europe/Rome:20250914T170000
DTSTAMP:20260422T033351
CREATED:20240515T103620Z
LAST-MODIFIED:20250515T112114Z
UID:9626-1752480000-1757869200@www.liceoguidocarli.eu
SUMMARY:DOCUMENTO DEL 15 MAGGIO
DESCRIPTION:DOCUMENTO DEL 15 MAGGIO – CLASSE 4B \nDOCUMENTO DEL 15 MAGGIO – CLASSE 5A
URL:https://www.liceoguidocarli.eu/event/documento-del-15-maggio-3/
CATEGORIES:NEWS
ATTACH;FMTTYPE=image/jpeg:https://www.liceoguidocarli.eu/wp-content/uploads/2024/05/15MAGGIO.jpg
END:VEVENT
BEGIN:VEVENT
DTSTART;TZID=Europe/Rome:20250723T080000
DTEND;TZID=Europe/Rome:20250723T170000
DTSTAMP:20260422T033351
CREATED:20250723T062844Z
LAST-MODIFIED:20250723T062844Z
UID:9983-1753257600-1753290000@www.liceoguidocarli.eu
SUMMARY:Estate 2025 - Chiusura uffici
DESCRIPTION:Siamo chiusi per ferie dal 26 luglio al 3 agosto e dal 9 al 20 agosto.
URL:https://www.liceoguidocarli.eu/event/estate-2025-chiusura-uffici/
CATEGORIES:NEWS
ATTACH;FMTTYPE=image/jpeg:https://www.liceoguidocarli.eu/wp-content/uploads/2025/07/pngtree-sun-png-image_4350716.jpg
END:VEVENT
BEGIN:VEVENT
DTSTART;TZID=Europe/Rome:20250919T080000
DTEND;TZID=Europe/Rome:20250919T170000
DTSTAMP:20260422T033351
CREATED:20250919T135124Z
LAST-MODIFIED:20250919T135445Z
UID:10005-1758268800-1758301200@www.liceoguidocarli.eu
SUMMARY:Avviso 2 CALENDARIO SCOLASTICO 2025-26
DESCRIPTION:1 settembre 2025\nApertura anno scolastico quadriennio\n\n\n8 settembre\nApertura anno scolastico quinquennio\n\n\n31 ottobre\nSospensione attività didattiche\n\n\n8 dicembre\nFesta dell’Immacolata\n\n\n20 dicembre 2025–06 gennaio 2026\nFestività natalizie\n\n\n13 gennaio 2026\nFine 1^ quadrimestre\n\n\n16 – 17 febbraio\nSospensione attività didattiche/Carnevale\n\n\n18-20 febbraio\nSospensione attività didattiche/attività alternative\n\n\n2 – 7 aprile\nFestività Pasquali\n\n\n1 maggio\nFesta del Lavoro\n\n\n1 – 2 giugno\nPonte Festa della Repubblica\n\n\n8 giugno\nTermine delle lezioni per le classi quinquennali e quarta quadriennale\n\n\n30 giugno\nTermine delle lezioni per le classi prime\, seconde e terze quadriennali\n\n\n24-31 agosto\nEsami per alunni/e con giudizio sospeso
URL:https://www.liceoguidocarli.eu/event/calendario-scolastico-2025-26/
CATEGORIES:AVVISI
END:VEVENT
BEGIN:VEVENT
DTSTART;TZID=Europe/Rome:20250919T080000
DTEND;TZID=Europe/Rome:20250919T170000
DTSTAMP:20260422T033351
CREATED:20250919T135532Z
LAST-MODIFIED:20250919T135532Z
UID:10008-1758268800-1758301200@www.liceoguidocarli.eu
SUMMARY:Avviso 8 Servizio mensa
DESCRIPTION:Da lunedì 22 settembre inizierà il servizio mensa che\, oltre a garantire l’aspetto nutrizionale\, può essere sicuramente un importante momento di socializzazione. I nostri sforzi saranno indirizzati a garantire un’alimentazione equilibrata e di qualità.  \nIl pranzo\, il cui costo è di 9 euro\, prevede: \n\nun primo del giorno od in alternativa pasta/riso al pomodoro o all’olio\nun secondo del giorno od in alternativa fettina di carne ai ferri/insalatona/formaggio/affettato\ncontorno caldo e buffet di verdure fresche scelta tra frutta fresca/budino/yogurt\nacqua a disposizione dal dispenser\nuna volta a settimana piatto unico composto da hamburger e patatine (con alternativa presente)\n\nDieta Speciale \n E’ possibile predisporre una dieta speciale per: \n\nMOTIVAZIONE SANITARIA (intolleranza\, allergia\, altra patologia)\nMOTIVAZIONE ETICA E/O RELIGIOSA – scelta vegetariana \n\nPer avviare la registrazione e la produzione di una Dieta Speciale Sanitaria è necessario richiedere in Segreteria il “Modulo Richiesta Dieta Speciale”. \n  \nOrganizzazione e pagamento \nPer accedere al servizio gli studenti dovranno essere in possesso del ticket da consegnare direttamente al personale della mensa. \nI ticket verranno ritirati in blocchetti da dieci (valore € 90) presso la Segreteria Amministrativa (Alessandra Angeli)\, consegnando la ricevuta del versamento effettuato sul conto corrente intestato a: Fondazione A.I.B. Banca Valsabbina – filiale di BS IBAN: IT14H0511611200000000056415\, specificando come causale: servizio mensa – nome e cognome studente. \nE’ inoltre possibile pagare tramite Bancomat / POS presso la segreteria amministrativa. \nI blocchetti dei ticket potranno essere ritirati dalle 8.00 alle 11.10. \n\nGli studenti che hanno lezioni curriculari pomeridiane\, per motivi di sicurezza e responsabilità\, non possono uscire da scuola durante la pausa pranzo e sono tenuti ad utilizzare il servizio mensa.\n\n\nPer la pausa pranzo non è consentito introdurre cibo dall’esterno con delivery.\n\n\nPer garantire l’efficienza del servizio gli studenti devono OBBLIGATORIAMENTE prenotare il pranzo utilizzando l’apposita applicazione di cui verranno informati in classe; l’app per le prenotazioni entrerà a pieno regime entro la fine del mese di settembre e fino a tale data sarà possibile la prenotazione manuale in classe\, supervisionata dal docente della prima ora di lezione.\n\n\nLa prenotazione dovrà avvenire entro le ore 11.10\, alla fine della ricreazione. Non verranno prese in considerazione prenotazioni successive; in caso di dimenticanza\, ogni studente interessato ad usufruire del servizio dovrà sincerarsi personalmente con la cuoca della possibilità di avere il pranzo. \n\n\nLa prenotazione giornaliera comporta l’obbligo del pagamento del pasto indipendentemente dall’effettiva consumazione dello stesso. \n\n 
URL:https://www.liceoguidocarli.eu/event/avviso-8-servizio-mensa/
CATEGORIES:AVVISI
END:VEVENT
BEGIN:VEVENT
DTSTART;TZID=Europe/Rome:20251030T143000
DTEND;TZID=Europe/Rome:20251030T170000
DTSTAMP:20260422T033351
CREATED:20251029T135341Z
LAST-MODIFIED:20251029T135341Z
UID:10034-1761834600-1761843600@www.liceoguidocarli.eu
SUMMARY:PRIMO OPEN STAGE
DESCRIPTION:Il Liceo Guido Carli organizza stage di orientamento attivo nei quali verrà offerta la possibilità agli aspiranti studenti di mettersi in gioco in maniera creativa e divertente: si proporranno ai partecipanti attività di gruppo stimolanti per approcciare la matematica\, l’italiano e l’inglese.\nTi aspettiamo per un pomeriggio diverso: conoscerai la realtà della nostra scuola attraverso giochi matematici\, sfide di narrazione e fantasia in italiano ed in inglese.\nGrazie al lavoro di squadra scoprirai che l’apprendimento può essere una sfida interessante e divertente e\, al contempo\, conoscere l’ambiente del Carli e il nostro corpo docente. \nPrenotazione obbligatoria \nOrario: 14.30-17.00
URL:https://www.liceoguidocarli.eu/event/primo-open-stage-3/
CATEGORIES:NEWS
ATTACH;FMTTYPE=image/jpeg:https://www.liceoguidocarli.eu/wp-content/uploads/2025/10/Open-stage-2025-.jpg
END:VEVENT
BEGIN:VEVENT
DTSTART;TZID=Europe/Rome:20251111T143000
DTEND;TZID=Europe/Rome:20251111T170000
DTSTAMP:20260422T033351
CREATED:20251029T135434Z
LAST-MODIFIED:20251029T135434Z
UID:10038-1762871400-1762880400@www.liceoguidocarli.eu
SUMMARY:SECONDO OPEN STAGE
DESCRIPTION:Il Liceo Guido Carli organizza stage di orientamento attivo nei quali verrà offerta la possibilità agli aspiranti studenti di mettersi in gioco in maniera creativa e divertente: si proporranno ai partecipanti attività di gruppo stimolanti per approcciare la matematica\, l’italiano e l’inglese.\nTi aspettiamo per un pomeriggio diverso: conoscerai la realtà della nostra scuola attraverso giochi matematici\, sfide di narrazione e fantasia in italiano ed in inglese.\nGrazie al lavoro di squadra scoprirai che l’apprendimento può essere una sfida interessante e divertente e\, al contempo\, conoscere l’ambiente del Carli e il nostro corpo docente. \nPrenotazione obbligatoria \nOrario: 14.30-17.00
URL:https://www.liceoguidocarli.eu/event/secondo-open-stage/
CATEGORIES:NEWS
ATTACH;FMTTYPE=image/jpeg:https://www.liceoguidocarli.eu/wp-content/uploads/2025/10/Open-stage-2025-.jpg
END:VEVENT
BEGIN:VEVENT
DTSTART;TZID=Europe/Rome:20251124T143000
DTEND;TZID=Europe/Rome:20251124T170000
DTSTAMP:20260422T033351
CREATED:20251029T135522Z
LAST-MODIFIED:20251029T135522Z
UID:10040-1763994600-1764003600@www.liceoguidocarli.eu
SUMMARY:TERZO OPEN STAGE
DESCRIPTION:Il Liceo Guido Carli organizza stage di orientamento attivo nei quali verrà offerta la possibilità agli aspiranti studenti di mettersi in gioco in maniera creativa e divertente: si proporranno ai partecipanti attività di gruppo stimolanti per approcciare la matematica\, l’italiano e l’inglese.\nTi aspettiamo per un pomeriggio diverso: conoscerai la realtà della nostra scuola attraverso giochi matematici\, sfide di narrazione e fantasia in italiano ed in inglese.\nGrazie al lavoro di squadra scoprirai che l’apprendimento può essere una sfida interessante e divertente e\, al contempo\, conoscere l’ambiente del Carli e il nostro corpo docente. \nPrenotazione obbligatoria \nOrario: 14.30-17.00
URL:https://www.liceoguidocarli.eu/event/terzo-open-stage/
CATEGORIES:NEWS
ATTACH;FMTTYPE=image/jpeg:https://www.liceoguidocarli.eu/wp-content/uploads/2025/10/Open-stage-2025-.jpg
END:VEVENT
BEGIN:VEVENT
DTSTART;TZID=Europe/Rome:20251210T143000
DTEND;TZID=Europe/Rome:20251210T170000
DTSTAMP:20260422T033351
CREATED:20251029T135605Z
LAST-MODIFIED:20251029T135605Z
UID:10042-1765377000-1765386000@www.liceoguidocarli.eu
SUMMARY:QUARTO OPEN STAGE
DESCRIPTION:Il Liceo Guido Carli organizza stage di orientamento attivo nei quali verrà offerta la possibilità agli aspiranti studenti di mettersi in gioco in maniera creativa e divertente: si proporranno ai partecipanti attività di gruppo stimolanti per approcciare la matematica\, l’italiano e l’inglese.\nTi aspettiamo per un pomeriggio diverso: conoscerai la realtà della nostra scuola attraverso giochi matematici\, sfide di narrazione e fantasia in italiano ed in inglese.\nGrazie al lavoro di squadra scoprirai che l’apprendimento può essere una sfida interessante e divertente e\, al contempo\, conoscere l’ambiente del Carli e il nostro corpo docente. \nPrenotazione obbligatoria \nOrario: 14.30-17.00
URL:https://www.liceoguidocarli.eu/event/quarto-open-stage/
CATEGORIES:NEWS
ATTACH;FMTTYPE=image/jpeg:https://www.liceoguidocarli.eu/wp-content/uploads/2025/10/Open-stage-2025-.jpg
END:VEVENT
BEGIN:VEVENT
DTSTART;TZID=Europe/Rome:20260108T143000
DTEND;TZID=Europe/Rome:20260108T170000
DTSTAMP:20260422T033351
CREATED:20241218T075716Z
LAST-MODIFIED:20251223T130510Z
UID:9812-1767882600-1767891600@www.liceoguidocarli.eu
SUMMARY:TEST ASSEGNAZIONE BORSE DI STUDIO
DESCRIPTION:È indetta una selezione di candidature per il conferimento\, a studenti e studentesse capaci e meritevoli\, di un contributo per la frequenza del percorso liceale in uno degli indirizzi del Liceo Guido Carli. Detta selezione è riservata agli iscritti\, nell’a.sc. 2026-2027\, alla classe 1^ di uno degli indirizzi del Liceo Guido Carli.\nLa domanda di ammissione alla selezione deve essere consegnata presso la sede: Via Stretta\, 175 – 25136 Brescia\, oppure inviata con mail all’ indirizzo segreteria@liceoguidocarli.eu entro le ore 14.00 del 07 gennaio 2026. \nData svolgimento\nLa prova di selezione si effettuerà mercoledì 08 gennaio 2026 alle ore 14.30 presso la Sede del Liceo.
URL:https://www.liceoguidocarli.eu/event/test-assegnazione-borse-di-studio/
CATEGORIES:NEWS
ATTACH;FMTTYPE=image/jpeg:https://www.liceoguidocarli.eu/wp-content/uploads/2024/12/US_7670-1-scaled.jpg
END:VEVENT
BEGIN:VEVENT
DTSTART;TZID=Europe/Rome:20260110T143000
DTEND;TZID=Europe/Rome:20260110T170000
DTSTAMP:20260422T033351
CREATED:20251216T135234Z
LAST-MODIFIED:20251216T135234Z
UID:10057-1768055400-1768064400@www.liceoguidocarli.eu
SUMMARY:GIORNATA APERTA
DESCRIPTION:Open Day del Liceo Guido Carli aperto a famiglie e studenti: \nsabato 10 gennaio 2026 dalle ore 14.30 alle ore 17.00. \nL’incontro rappresenta un’ulteriore occasione per conoscere più da vicino la nostra scuola\, nel corso del pomeriggio verrà presentata l’offerta formativa del Liceo e ragazze e ragazzi potranno partecipare a laboratori e attività guidate dai nostri insegnanti\, approfondendo così i percorsi di studio proposti. \nGli studenti del Liceo saranno a disposizione in qualità di preziosi portavoce della loro esperienza scolastica. \nOrario: 14.30-17.00
URL:https://www.liceoguidocarli.eu/event/giornata-aperta/
CATEGORIES:NEWS
ATTACH;FMTTYPE=image/jpeg:https://www.liceoguidocarli.eu/wp-content/uploads/2025/12/openday-10-gennaio.jpg
END:VEVENT
BEGIN:VEVENT
DTSTART;TZID=Europe/Rome:20260409T140000
DTEND;TZID=Europe/Rome:20260409T170000
DTSTAMP:20260422T033351
CREATED:20260401T074232Z
LAST-MODIFIED:20260401T074232Z
UID:10126-1775743200-1775754000@www.liceoguidocarli.eu
SUMMARY:STAGE 9 APRILE - PORTA UN AMICO
DESCRIPTION:Il nostro percorso di orientamento e introduzione al Carli prosegue. \ngiovedì 9 aprile i nostri futuri studenti svolgeranno attività laboratoriali affini all’indirizzo scelto da ciascuno di loro. \nLo scopo di questo pomeriggio di incontro sarà “farsi un’idea” del percorso scolastico che inizierà a settembre e socializzare con i futuri compagni. \nDopo il successo degli scorsi anni\, rinnoviamo la proposta PORTA UN AMICO! \nSe i vostri figli vogliono visitare la nuova scuola e conoscere la nostra offerta formativa\, anche se già iscritti in altri istituti\, saremo lieti di ospitarli per la nostra attività pomeridiana e per una merenda in compagnia dei nostri studenti e docenti. \nLa proposta\, comune a tutti gli indirizzi\, è la seguente: \nOre 14.00 – Mensa per chi vuole pranzare da noi (previo acquisto in segreteria del ticket da 9.00 euro) \nLa proposta per i diversi indirizzi è la seguente: \nOre 14.30 \nArea Economico-sociale \n\nLaboratorio Scienze umane (prof.ssa Amato)\nLaboratorio Diritto ed economia (prof.sse Bettineschi e Dioni)\n\nArea scientifica \n\nLaboratorio Scienze naturali (proff. Scaglia e Mantero)\nLaboratorio Fisica (prof.sse Manza e Rea)\nLaboratorio Inglese (prof.sse Cecchin-Racheli) \n\n16.30 MERENDA PIANO TERRA \nDalle ore 16.40 alle 17.30 con Prof.ssa Cecchin \nI genitori sono invitati con gli studenti per la presentazione del Doppio Diploma Americano di Mater Academy\, che da anni collabora con il nostro Liceo nell’ambito del programma per ottenere il doppio diploma. \nPrenotazione OBBLIGATORIA inviando una richiesta a segreteria@liceoguidocarli.eu
URL:https://www.liceoguidocarli.eu/event/stage-9-aprile-porta-un-amico/
CATEGORIES:NEWS
ATTACH;FMTTYPE=image/jpeg:https://www.liceoguidocarli.eu/wp-content/uploads/2022/11/IMG_1713-scaled.jpg
END:VEVENT
END:VCALENDAR