
BEGIN:VCALENDAR
VERSION:2.0
PRODID:-//Liceo guido carli - ECPv5.11.0//NONSGML v1.0//EN
CALSCALE:GREGORIAN
METHOD:PUBLISH
X-WR-CALNAME:Liceo guido carli
X-ORIGINAL-URL:https://www.liceoguidocarli.eu
X-WR-CALDESC:Events for Liceo guido carli
BEGIN:VTIMEZONE
TZID:Europe/Rome
BEGIN:DAYLIGHT
TZOFFSETFROM:+0100
TZOFFSETTO:+0200
TZNAME:CEST
DTSTART:20210328T010000
END:DAYLIGHT
BEGIN:STANDARD
TZOFFSETFROM:+0200
TZOFFSETTO:+0100
TZNAME:CET
DTSTART:20211031T010000
END:STANDARD
END:VTIMEZONE
BEGIN:VEVENT
DTSTART;TZID=Europe/Rome:20211117T150000
DTEND;TZID=Europe/Rome:20211117T170000
DTSTAMP:20260425T232500
CREATED:20211124T084310Z
LAST-MODIFIED:20221121T151715Z
UID:7533-1637161200-1637168400@www.liceoguidocarli.eu
SUMMARY:OPEN STAGE – PRIMO EVENTO
DESCRIPTION:Vieni a trascorrere un pomeriggio con noi per conoscere le nostre attività e il nostro modo di far scuola divertendoci. \nPotrai conoscere i docenti e studenti del Carli e socializzare con i tuoi futuri compagni! \n15 posti disponibili
URL:https://www.liceoguidocarli.eu/event/open-stage-primo-evento/
LOCATION:Liceo Guido Carli\, Via Stretta\, 175\, Brescia\, Italia
CATEGORIES:NEWS
ATTACH;FMTTYPE=image/jpeg:https://www.liceoguidocarli.eu/wp-content/uploads/2021/11/LICEO_17-NOVEMBRE.jpg
END:VEVENT
BEGIN:VEVENT
DTSTART;TZID=Europe/Rome:20211012T110000
DTEND;TZID=Europe/Rome:20211012T130000
DTSTAMP:20260425T232500
CREATED:20211124T084129Z
LAST-MODIFIED:20221121T151709Z
UID:7528-1634036400-1634043600@www.liceoguidocarli.eu
SUMMARY:CERIMONIA CONSEGNA DEI DIPLOMI DELL’ESAME DI STATO E BORSE DI STUDIO
DESCRIPTION:Martedì 12 ottobre dalle ore 11 presso la sede del Liceo avrà luogo la cerimonia di consegna dei Diplomi dell’Esame di Stato e\, contestualmente\, delle borse di studio per alunni e alunne del primo anno. \nSaranno presenti autorità\, stampa\, aziende benefattrici\, neo diplomati e studenti delle classi prime per un “passaggio di consegne” simbolico ma importante. \nPresto le foto dell’evento in Photogallery: Stay tuned!
URL:https://www.liceoguidocarli.eu/event/cerimonia-consegna-dei-diplomi-dellesame-di-stato-e-borse-di-studio/
CATEGORIES:NEWS
ATTACH;FMTTYPE=image/jpeg:https://www.liceoguidocarli.eu/wp-content/uploads/2021/11/LICEO_cerimonia-12-ottobre.jpg
END:VEVENT
END:VCALENDAR