
BEGIN:VCALENDAR
VERSION:2.0
PRODID:-//Liceo guido carli - ECPv5.11.0//NONSGML v1.0//EN
CALSCALE:GREGORIAN
METHOD:PUBLISH
X-WR-CALNAME:Liceo guido carli
X-ORIGINAL-URL:https://www.liceoguidocarli.eu
X-WR-CALDESC:Events for Liceo guido carli
BEGIN:VTIMEZONE
TZID:Europe/Rome
BEGIN:DAYLIGHT
TZOFFSETFROM:+0100
TZOFFSETTO:+0200
TZNAME:CEST
DTSTART:20250330T010000
END:DAYLIGHT
BEGIN:STANDARD
TZOFFSETFROM:+0200
TZOFFSETTO:+0100
TZNAME:CET
DTSTART:20251026T010000
END:STANDARD
END:VTIMEZONE
BEGIN:VEVENT
DTSTART;TZID=Europe/Rome:20250317T080000
DTEND;TZID=Europe/Rome:20250317T170000
DTSTAMP:20260422T005205
CREATED:20250321T083003Z
LAST-MODIFIED:20250321T083003Z
UID:9890-1742198400-1742230800@www.liceoguidocarli.eu
SUMMARY:Avviso 99 - Prof.ssa Francesca Malzani\, Università degli Studi di Brescia
DESCRIPTION:Studenti e genitori classi 4^ \nNell’ambito delle proposte di educazione civica\, e in relazione alle attività per il premio Trebeschi\,\ngli alunni delle classi 4^A\, 4^B e 4^C incontreranno a scuola la prof.ssa Francesca Malzani\,\nProfessoressa Ordinaria di Diritto del Lavoro presso il Dipartimento di Giurisprudenza\ndell’Università degli Studi di Brescia\, autrice di numerose pubblicazioni in tema di prevenzione dei\nrischi\, benessere organizzativo\, qualità del lavoro e di lavoro carcerario sul quale ha edito una\nmonografia nel 2022 (Le dimensioni della dignità nel lavoro carcerario) per i tipi di Giappichelli. Dal\n2018 è titolare dell’insegnamento di Clinica del lavoro e ha avviato progetti di alfabetizzazione\ngiuridica destinati ai detenuti e agli operatori che si occupano di lavoro carcerario.\nL’incontro con la prof. Malzani si terrà a scuola il 17 marzo p.v.\, in sesta ora\, dalle 12.50 alle 13.40.\nL’incontro muoverà dall’analisi delle principali fonti che servono a definire le direttrici lungo cui si\ncolloca la tutela della dignità dei detenuti nella formazione sociale rappresentata dal carcere\, con\nattenzione agli scollamenti dal dettato costituzionale e alle potenzialità (ancora) presenti nel\nsistema disegnato dalla riforma dell’ordinamento penitenziario del 1975 (e del 2018) e dagli altri\ninterventi ad essa collegati (tra cui\, la c.d. legge Smuraglia del 2000). L’obiettivo è ricostruire uno\nstatuto di tutela del lavoratore-detenuto\, che affonda le radici nei diritti del rapporto e in quelli\nprevidenziali e assistenziali\, nella convinzione che il lavoro costituisca il principale strumento del\ntrattamento penitenziario e l’imprescindibile veicolo di (re)inserimento della persona nella\nsocietà. Il discorso si muove “fuori” e “dentro” gli istituti di reclusione\, nel complesso rapporto tra\nistituzioni\, imprese e collettività\, indagando le condizioni (e i rimedi) per un’effettiva\nreintegrazione.\nSi precisa che rientrando nella programmazione di educazione civica l’incontro è curricolare e\nobbligatorio per tutti gli alunni di 4^ A\, B e C (anche coloro che non si avvalgono di IRC).
URL:https://www.liceoguidocarli.eu/event/avviso-99-prof-ssa-francesca-malzani-universita-degli-studi-di-brescia/
CATEGORIES:AVVISI
END:VEVENT
END:VCALENDAR