
BEGIN:VCALENDAR
VERSION:2.0
PRODID:-//Liceo guido carli - ECPv5.11.0//NONSGML v1.0//EN
CALSCALE:GREGORIAN
METHOD:PUBLISH
X-WR-CALNAME:Liceo guido carli
X-ORIGINAL-URL:https://www.liceoguidocarli.eu
X-WR-CALDESC:Events for Liceo guido carli
BEGIN:VTIMEZONE
TZID:Europe/Rome
BEGIN:DAYLIGHT
TZOFFSETFROM:+0100
TZOFFSETTO:+0200
TZNAME:CEST
DTSTART:20240331T010000
END:DAYLIGHT
BEGIN:STANDARD
TZOFFSETFROM:+0200
TZOFFSETTO:+0100
TZNAME:CET
DTSTART:20241027T010000
END:STANDARD
END:VTIMEZONE
BEGIN:VEVENT
DTSTART;TZID=Europe/Rome:20240322T080000
DTEND;TZID=Europe/Rome:20240322T170000
DTSTAMP:20260424T174335
CREATED:20240328T132356Z
LAST-MODIFIED:20240328T132356Z
UID:9580-1711094400-1711126800@www.liceoguidocarli.eu
SUMMARY:Avviso 98 - Presentazione Corso triennale in Business and finance L18
DESCRIPTION:Cari studenti e care studentesse\,\nnell’ambito dei percorsi orientativi il nostro Liceo propone un incontro di presentazione del\nnuovo corso di laurea triennale in Business and finance\, che verrà attivato a Brescia dalle Facoltà di\nScienze bancarie\, finanziarie e assicurative e di Economia e Giurisprudenza dell’Università\nCattolica del Sacro Cuore\, per l’anno accademico 2024/2025. \nL’incontro è rivolto alle classi 4^A\, 3^B e 4^B ed è previsto per lunedì 8 aprile dalle ore 12.00 alle\nore 13.40 presso l’auditorium del Liceo.\nLa presentazione si articolerà in 3 momenti:\n– saluto della Preside della Facoltà di Scienze bancarie\, finanziarie e assicurative che\ncontestualizzerà anche l’innovativa proposta formativa in lingua inglese;\n– una lezione tenuta da un docente del corso\, per consentire agli studenti di conoscere in\nanteprima alcune delle tematiche e delle modalità di insegnamento caratterizzanti;\n– una breve sessione di Q&A per rispondere a quesiti di natura tecnica e circa altri corsi attivi\npresso l’Università.
URL:https://www.liceoguidocarli.eu/event/avviso-98-presentazione-corso-triennale-in-business-and-finance-l18/
CATEGORIES:AVVISI
END:VEVENT
END:VCALENDAR