
BEGIN:VCALENDAR
VERSION:2.0
PRODID:-//Liceo guido carli - ECPv5.11.0//NONSGML v1.0//EN
CALSCALE:GREGORIAN
METHOD:PUBLISH
X-WR-CALNAME:Liceo guido carli
X-ORIGINAL-URL:https://www.liceoguidocarli.eu
X-WR-CALDESC:Events for Liceo guido carli
BEGIN:VTIMEZONE
TZID:Europe/Rome
BEGIN:DAYLIGHT
TZOFFSETFROM:+0100
TZOFFSETTO:+0200
TZNAME:CEST
DTSTART:20240331T010000
END:DAYLIGHT
BEGIN:STANDARD
TZOFFSETFROM:+0200
TZOFFSETTO:+0100
TZNAME:CET
DTSTART:20241027T010000
END:STANDARD
END:VTIMEZONE
BEGIN:VEVENT
DTSTART;TZID=Europe/Rome:20240304T080000
DTEND;TZID=Europe/Rome:20240304T170000
DTSTAMP:20260424T172404
CREATED:20240209T102516Z
LAST-MODIFIED:20240209T102516Z
UID:9331-1709539200-1709571600@www.liceoguidocarli.eu
SUMMARY:CORSO DI LINGUA E CULTURA GIAPPONESE
DESCRIPTION:Corso di lingua giapponese rivolto a\n– studenti frequentanti il liceo\n– esterni senza limiti di età. \nObiettivo principale del corso è quello di imparare le espressioni essenziali della lingua e conoscere la cultura giapponese. \nI corsi\, in programma da febbraio a maggio\, saranno tenuti e curati del prof. Kenryu Otsuka\, madrelingua e docente presso la Scuola giapponese di Milano Hosyuko con il seguente orario\n– ciclo di 12 lezioni – un giorno a settimana dalle ore 14.30 alle 16.00 (studenti)\n– ciclo di 12 lezioni – un giorno a settimana delle ore 16.30 alle 18.00 (esterni) \nDal 4 marzo 2024
URL:https://www.liceoguidocarli.eu/event/corso-di-lingua-e-cultura-giapponese/
CATEGORIES:NEWS
ATTACH;FMTTYPE=image/png:https://www.liceoguidocarli.eu/wp-content/uploads/2024/02/Senza-titolo.png
END:VEVENT
BEGIN:VEVENT
DTSTART;TZID=Europe/Rome:20240304T080000
DTEND;TZID=Europe/Rome:20240304T170000
DTSTAMP:20260424T172404
CREATED:20240328T131749Z
LAST-MODIFIED:20240328T131749Z
UID:9576-1709539200-1709571600@www.liceoguidocarli.eu
SUMMARY:Avviso 90 - L’uso delle sostanze stupefacenti e/o psicotrope e loro effetti
DESCRIPTION:All’interno del percorso benessere di sé e degli altri\, mirato a sensibilizzare gli studenti sui temi importanti per la crescita personale e per la consapevolezza dei comportamenti\, è previsto\, per le classi seconde\, un incontro mirato a sensibilizzare i ragazzi sui temi legati all’utilizzo delle sostanze stupefacenti e/o psicotrope e sui loro effetti. Nello specifico l’obiettivo dell’incontro è di sviluppare negli studenti una consapevolezza finalizzata alla riduzione dei comportamenti a rischio e portare a conoscenza degli studenti il significato di sostanza stupefacente e/o psicotrope e dei suoi effetti oltre che delle politiche di repressione grazie all’approfondimento degli illeciti penali ed amministrativi così come degli interventi di prevenzione.​ \nL’incontro sarà gestito da membri appartenenti al Corpo della Polizia Locale\, che insieme al Comune di Brescia\, da anni concorre in modo fattivo allo svolgimento dell’attività di educazione alla legalità nelle scuole cittadine di ogni ordine e grado.​ Di seguito il calendario degli incontri divisi per classi: \nmercoledì 13 marzo 2024:. \ndalle ore 08.00 alle ore 10.00 Classi 2^A e 2^B riunite in auditorium\ndalle ore 10.00 alle ore 12.00 Classe 2^C\n(la classe recupera l’intervallo al termine dell’incontro)
URL:https://www.liceoguidocarli.eu/event/avviso-90-luso-delle-sostanze-stupefacenti-e-o-psicotrope-e-loro-effetti/
CATEGORIES:AVVISI
END:VEVENT
END:VCALENDAR