
BEGIN:VCALENDAR
VERSION:2.0
PRODID:-//Liceo guido carli - ECPv5.11.0//NONSGML v1.0//EN
CALSCALE:GREGORIAN
METHOD:PUBLISH
X-WR-CALNAME:Liceo guido carli
X-ORIGINAL-URL:https://www.liceoguidocarli.eu
X-WR-CALDESC:Events for Liceo guido carli
BEGIN:VTIMEZONE
TZID:Europe/Rome
BEGIN:DAYLIGHT
TZOFFSETFROM:+0100
TZOFFSETTO:+0200
TZNAME:CEST
DTSTART:20230326T010000
END:DAYLIGHT
BEGIN:STANDARD
TZOFFSETFROM:+0200
TZOFFSETTO:+0100
TZNAME:CET
DTSTART:20231029T010000
END:STANDARD
END:VTIMEZONE
BEGIN:VEVENT
DTSTART;TZID=Europe/Rome:20231121T153000
DTEND;TZID=Europe/Rome:20231121T170000
DTSTAMP:20260424T220949
CREATED:20231117T113814Z
LAST-MODIFIED:20231117T113814Z
UID:9187-1700580600-1700586000@www.liceoguidocarli.eu
SUMMARY:DIRITTO E ROVESCIO - Laboratori di filosofia
DESCRIPTION:Il nostro Liceo è lieta di ospitare “Diritto e rovescio!”\, laboratorio di filosofia per ragazzi e ragazze di età compresa tra gli 11 e i 14 anni a cura dell’Associazione Perimetri\, di cui due nostre insegnanti fanno parte\, inserito all’interno del cartellone del Festival della Pace di Brescia. \nIl laboratorio guiderà i ragazzi ad una riflessione sul tema dei diritti fondamentali per la costruzione della pace\, attraverso il dialogo come pratica filosofica. Il laboratorio si terrà martedì 21 novembre dalle ore 15.30 alle ore 17.00 ed è ad ingresso gratuito previa prenotazione all’indirizzo email associazione.perimetri@gmail.com.
URL:https://www.liceoguidocarli.eu/event/diritto-e-rovescio-laboratori-di-filosofia/
CATEGORIES:NEWS
ATTACH;FMTTYPE=image/png:https://www.liceoguidocarli.eu/wp-content/uploads/2023/11/DIRITTOROVESCIO.png
END:VEVENT
END:VCALENDAR