
BEGIN:VCALENDAR
VERSION:2.0
PRODID:-//Liceo guido carli - ECPv5.11.0//NONSGML v1.0//EN
CALSCALE:GREGORIAN
METHOD:PUBLISH
X-WR-CALNAME:Liceo guido carli
X-ORIGINAL-URL:https://www.liceoguidocarli.eu
X-WR-CALDESC:Events for Liceo guido carli
BEGIN:VTIMEZONE
TZID:Europe/Rome
BEGIN:DAYLIGHT
TZOFFSETFROM:+0100
TZOFFSETTO:+0200
TZNAME:CEST
DTSTART:20230326T010000
END:DAYLIGHT
BEGIN:STANDARD
TZOFFSETFROM:+0200
TZOFFSETTO:+0100
TZNAME:CET
DTSTART:20231029T010000
END:STANDARD
END:VTIMEZONE
BEGIN:VEVENT
DTSTART;TZID=Europe/Rome:20230109T090000
DTEND;TZID=Europe/Rome:20230621T170000
DTSTAMP:20260425T052821
CREATED:20221219T102156Z
LAST-MODIFIED:20221219T133636Z
UID:8583-1673254800-1687366800@www.liceoguidocarli.eu
SUMMARY:CREATE YOUR FUTURE
DESCRIPTION:Il progetto CREATE YOUR FUTURE si propone di offrire agli studenti del territorio la possibilità di seguire i corsi di preparazione ai test d’ingresso in un ampio ventaglio di discipline. \nCREATE YOUR FUTURE è rivolto agli studenti del quarto e quinto anno della scuola secondaria di secondo grado che vogliano prepararsi ai test d’accesso ai Corsi di laurea con accesso programmato o a numero chiuso\, aiutandoli ad apprendere strumenti utili per il superamento del test selettivo.\nL’obiettivo è quello di fornire un solido supporto didattico allo studio nelle discipline di Matematica\, Logica\, Biologia\, Chimica e Fisica. \nIl Liceo Guido Carli è un polo di ricerca\, di innovazione didattica e di riferimento per gli studenti del territorio. \n  \nScarica la brochure
URL:https://www.liceoguidocarli.eu/event/create-your-future/
LOCATION:Liceo Guido Carli\, Via Stretta\, 175\, Brescia\, Italia
CATEGORIES:NEWS
ATTACH;FMTTYPE=image/jpeg:https://www.liceoguidocarli.eu/wp-content/uploads/2022/12/perche-sceglierci.jpg
END:VEVENT
BEGIN:VEVENT
DTSTART;TZID=Europe/Rome:20230524T140000
DTEND;TZID=Europe/Rome:20230524T170000
DTSTAMP:20260425T052821
CREATED:20230508T101446Z
LAST-MODIFIED:20230508T101616Z
UID:8747-1684936800-1684947600@www.liceoguidocarli.eu
SUMMARY:STAGE AL CARLI- STEP 4
DESCRIPTION:Il percorso di orientamento e introduzione al Carli prosegue.\nMercoledì 24 maggio avremo ospiti i futuri studenti delle classi prime per svolgere attività di gruppo e permettere anche a coloro che non sono potuti essere presenti a marzo di conoscere i compagni  dell’indirizzo scelto.\nAnche i ragazzi che desiderassero conoscere la nostra realtà\, anche se già preiscritti in altri istituti\, potranno essere ospiti prenotando la giornata in segreteria.\n\n\n\n– Ore 14.00\nMensa per chi vuole pranzare da noi (previo acquisto del ticket da 9.00 euro)\n– Ore 14.30\nAttività di gruppo divisi per classe di iscrizione\n– Dalle ore 16.00 alle 17.00\nI genitori sono invitati assieme agli studenti per la presentazione del Doppio Diploma Americano di Mater Academy (che da anni collabora con il nostro Liceo nell’ambito del programma per ottenere il doppio diploma).
URL:https://www.liceoguidocarli.eu/event/stage-al-carli-step-4/
CATEGORIES:NEWS
ATTACH;FMTTYPE=image/jpeg:https://www.liceoguidocarli.eu/wp-content/uploads/2023/05/IMG-20230508-WA0005.jpg
END:VEVENT
END:VCALENDAR